BEGIN:VCALENDAR
VERSION:2.0
PRODID:-//eventon.com NONSGML v1.0//EN
CALSCALE:GREGORIAN
METHOD:PUBLISH
BEGIN:VEVENT
UID:69e8ee3d4bf03
DTSTAMP:20260422T155021
DTSTART:20260712T100000Z
DTEND:20260712T190000Z
TZID:Europe/London
LOCATION:
SUMMARY:Puerto Rican Parade of Fairfield County
DESCRIPTION:\nhttps://swchc.org/events/puerto-rican-parade-of-fairfield-county/
URL:https://swchc.org/events/puerto-rican-parade-of-fairfield-county/
END:VEVENT
END:VCALENDAR