BEGIN:VCALENDAR
VERSION:2.0
PRODID:-//eventon.com NONSGML v1.0//EN
CALSCALE:GREGORIAN
METHOD:PUBLISH
BEGIN:VEVENT
UID:69e9000c84660
DTSTAMP:20260422T170620
DTSTART:20260613T080000Z
DTEND:20260613T170000Z
TZID:Europe/London
LOCATION:
SUMMARY:Juneteenth Parade & Festival 
DESCRIPTION:\nhttps://swchc.org/events/juneteenth-parade-festival/
URL:https://swchc.org/events/juneteenth-parade-festival/
END:VEVENT
END:VCALENDAR