BEGIN:VCALENDAR
VERSION:2.0
PRODID:-//eventon.com NONSGML v1.0//EN
CALSCALE:GREGORIAN
METHOD:PUBLISH
BEGIN:VEVENT
UID:69e917e0478ad
DTSTAMP:20260422T184800
DTSTART:20260620T093000Z
DTEND:20260620T150000Z
TZID:Europe/London
LOCATION:
SUMMARY:CIRI World Refugee Day
DESCRIPTION:\nhttps://swchc.org/events/ciri-world-refugee-day/
URL:https://swchc.org/events/ciri-world-refugee-day/
END:VEVENT
END:VCALENDAR