BEGIN:VCALENDAR
VERSION:2.0
PRODID:-//eventon.com NONSGML v1.0//EN
CALSCALE:GREGORIAN
METHOD:PUBLISH
BEGIN:VEVENT
UID:69e8ff28387df
DTSTAMP:20260422T170232
DTSTART:20260802T110000Z
DTEND:20260802T170000Z
TZID:Europe/London
LOCATION:
SUMMARY:2nd Annual Dominican Parade & Festival
DESCRIPTION:11 AM &#8211; 1 PM Parade 1 PM &#8211; 5 PM Festival\nhttps://swchc.org/events/2nd-annual-dominican-parade-festival/
URL:https://swchc.org/events/2nd-annual-dominican-parade-festival/
END:VEVENT
END:VCALENDAR