BEGIN:VCALENDAR
VERSION:2.0
PRODID:-//eventon.com NONSGML v1.0//EN
CALSCALE:GREGORIAN
METHOD:PUBLISH
BEGIN:VEVENT
UID:69e9179982b39
DTSTAMP:20260422T184649
DTSTART:20260627T100000Z
DTEND:20260627T140000Z
TZID:Europe/London
LOCATION:
SUMMARY:HIA Barnum Festival
DESCRIPTION:\nhttps://swchc.org/events/hia-barnum-festival/
URL:https://swchc.org/events/hia-barnum-festival/
END:VEVENT
END:VCALENDAR