BEGIN:VCALENDAR
VERSION:2.0
PRODID:-//eventon.com NONSGML v1.0//EN
CALSCALE:GREGORIAN
METHOD:PUBLISH
BEGIN:VEVENT
UID:69e9167d175b1
DTSTAMP:20260422T184205
DTSTART:20260606T130000Z
DTEND:20260606T170000Z
TZID:Europe/London
LOCATION:
SUMMARY:#100GirlsLeading
DESCRIPTION:\nhttps://swchc.org/events/100girlsleading/
URL:https://swchc.org/events/100girlsleading/
END:VEVENT
END:VCALENDAR