BEGIN:VCALENDAR
VERSION:2.0
PRODID:-//eventon.com NONSGML v1.0//EN
CALSCALE:GREGORIAN
METHOD:PUBLISH
BEGIN:VEVENT
UID:69e8ff4c05463
DTSTAMP:20260422T170308
DTSTART:20260513T150000Z
DTEND:20260513T180000Z
TZID:Europe/London
LOCATION:
SUMMARY:Stratford Youth Alliance/Town of Stratford is hosting a Mental Health Awareness Day
DESCRIPTION:\nhttps://swchc.org/events/stratford-youth-alliance-town-of-stratford-is-hosting-a-mental-health-awareness-day/
URL:https://swchc.org/events/stratford-youth-alliance-town-of-stratford-is-hosting-a-mental-health-awareness-day/
END:VEVENT
END:VCALENDAR