BEGIN:VCALENDAR
VERSION:2.0
PRODID:-//eventon.com NONSGML v1.0//EN
CALSCALE:GREGORIAN
METHOD:PUBLISH
BEGIN:VEVENT
UID:69e89a2ae4f58
DTSTAMP:20260422T095138
DTSTART:20250809T100000Z
DTEND:20250809T130000Z
TZID:America/New_York
LOCATION:
SUMMARY:Journey to Baby
DESCRIPTION:You’re Invited to Our Community Baby Shower!Southwest Community Health Center in partnership with M&amp;T Bank is hosting a free\,  public baby shower for all expecting and new parents! Come enjoy giveaways\,  baby essentials\,  raffles\,  light refreshments\,  and connect with local health professionals and community resources. Whether you’re preparing for your[..]\nhttps://swchc.org/events/journey-to-baby/
URL:https://swchc.org/events/journey-to-baby/
END:VEVENT
END:VCALENDAR